BEGIN:VCALENDAR
VERSION:2.0
PRODID:-//Music City Aquarium Society - ECPv6.15.20//NONSGML v1.0//EN
CALSCALE:GREGORIAN
METHOD:PUBLISH
X-ORIGINAL-URL:https://www.musiccityaquariumsociety.com
X-WR-CALDESC:Events for Music City Aquarium Society
REFRESH-INTERVAL;VALUE=DURATION:PT1H
X-Robots-Tag:noindex
X-PUBLISHED-TTL:PT1H
BEGIN:VTIMEZONE
TZID:America/New_York
BEGIN:DAYLIGHT
TZOFFSETFROM:-0500
TZOFFSETTO:-0400
TZNAME:EDT
DTSTART:20240310T070000
END:DAYLIGHT
BEGIN:STANDARD
TZOFFSETFROM:-0400
TZOFFSETTO:-0500
TZNAME:EST
DTSTART:20241103T060000
END:STANDARD
BEGIN:DAYLIGHT
TZOFFSETFROM:-0500
TZOFFSETTO:-0400
TZNAME:EDT
DTSTART:20250309T070000
END:DAYLIGHT
BEGIN:STANDARD
TZOFFSETFROM:-0400
TZOFFSETTO:-0500
TZNAME:EST
DTSTART:20251102T060000
END:STANDARD
BEGIN:DAYLIGHT
TZOFFSETFROM:-0500
TZOFFSETTO:-0400
TZNAME:EDT
DTSTART:20260308T070000
END:DAYLIGHT
BEGIN:STANDARD
TZOFFSETFROM:-0400
TZOFFSETTO:-0500
TZNAME:EST
DTSTART:20261101T060000
END:STANDARD
END:VTIMEZONE
BEGIN:VEVENT
DTSTART;TZID=America/New_York:20250712T140000
DTEND;TZID=America/New_York:20250712T160000
DTSTAMP:20260425T170327
CREATED:20250531T162729Z
LAST-MODIFIED:20250531T162729Z
UID:276-1752328800-1752336000@www.musiccityaquariumsociety.com
SUMMARY:July Meeting - Ken Normandin on Wild Fish Collecting
DESCRIPTION:The July meeting will feature a presentation from Ken Normandin on wild fish collecting. \nAgenda \n2:00 - 2:20 Club business\, announcements\n2:20 - 3:00 Speaker presentation\n3:00 - 3:15 Q&A\n3:15 - 3:45 Auction\n3:45 - 4:00 Settle up & converse \n  \n  \n 
URL:https://www.musiccityaquariumsociety.com/event/july-meeting-ken-normandin-on-wild-fish-collecting/
LOCATION:New Hope Church of Christ\, 2600 New Hope Road\, Hendersonville\, TN\, 37075\, United States
END:VEVENT
END:VCALENDAR