BEGIN:VCALENDAR
VERSION:2.0
PRODID:-//Music City Aquarium Society - ECPv6.15.20//NONSGML v1.0//EN
CALSCALE:GREGORIAN
METHOD:PUBLISH
X-ORIGINAL-URL:https://www.musiccityaquariumsociety.com
X-WR-CALDESC:Events for Music City Aquarium Society
REFRESH-INTERVAL;VALUE=DURATION:PT1H
X-Robots-Tag:noindex
X-PUBLISHED-TTL:PT1H
BEGIN:VTIMEZONE
TZID:America/New_York
BEGIN:DAYLIGHT
TZOFFSETFROM:-0500
TZOFFSETTO:-0400
TZNAME:EDT
DTSTART:20240310T070000
END:DAYLIGHT
BEGIN:STANDARD
TZOFFSETFROM:-0400
TZOFFSETTO:-0500
TZNAME:EST
DTSTART:20241103T060000
END:STANDARD
BEGIN:DAYLIGHT
TZOFFSETFROM:-0500
TZOFFSETTO:-0400
TZNAME:EDT
DTSTART:20250309T070000
END:DAYLIGHT
BEGIN:STANDARD
TZOFFSETFROM:-0400
TZOFFSETTO:-0500
TZNAME:EST
DTSTART:20251102T060000
END:STANDARD
BEGIN:DAYLIGHT
TZOFFSETFROM:-0500
TZOFFSETTO:-0400
TZNAME:EDT
DTSTART:20260308T070000
END:DAYLIGHT
BEGIN:STANDARD
TZOFFSETFROM:-0400
TZOFFSETTO:-0500
TZNAME:EST
DTSTART:20261101T060000
END:STANDARD
END:VTIMEZONE
BEGIN:VEVENT
DTSTART;TZID=America/New_York:20250405T140000
DTEND;TZID=America/New_York:20250405T160000
DTSTAMP:20260425T210515
CREATED:20250405T000854Z
LAST-MODIFIED:20250405T000854Z
UID:227-1743861600-1743868800@www.musiccityaquariumsociety.com
SUMMARY:April Club Meeting
DESCRIPTION:Please note that this meeting and future meetings will be at a new location: 2600 New Hope Road\, Hendersonville\, TN 37075.\n\nJordanna Twilley will be speaking on Aquatic Shrimp!\n\n\n \nThe meeting format is as follows:\n\nClub announcements and information\nSpeaker Presentation\nAuction\n\n\nA few reminders for the meeting:\n\nPlease have all auction items bagged up prior to the meeting. Fish should be bagged in aquarium bags. Plants can be bagged in ziploc bags or containers without water.\nIf you arrive after the meeting has begun\, please wait to bring auction items to the table until after the presentation portion of the meeting has concluded.\nHAP and BAP online forms and information can be found on the home page of the website. Please fill forms out prior to the meeting.
URL:https://www.musiccityaquariumsociety.com/event/april-club-meeting/
LOCATION:New Hope Church of Christ\, 2600 New Hope Road\, Hendersonville\, TN\, 37075\, United States
CATEGORIES:Monthly Meeting
END:VEVENT
BEGIN:VEVENT
DTSTART;TZID=America/New_York:20250419T110000
DTEND;TZID=America/New_York:20250419T170000
DTSTAMP:20260425T210515
CREATED:20250405T002016Z
LAST-MODIFIED:20250405T002016Z
UID:236-1745060400-1745082000@www.musiccityaquariumsociety.com
SUMMARY:Tour of Conservation Fisheries Inc.
DESCRIPTION:CFI has kindly welcomed us to tour their facility on 4/19. CFI is a 501(3)c non-profit dedicated to the preservation of aquatic biodiversity in our rivers and streams. They have propagated over 80 non-game fish species\, including some of the most imperiled in the southeastern United States.  \nSpace is limited\, so please RSVP using the Google Form linked below. CFI is located in Knoxville\, TN\, roughly a 3-hour drive from Nashville. We will be meeting at their facility at 12 PM EST (11 AM Central) \n \nMCAS CFI Tour RSVP Form
URL:https://www.musiccityaquariumsociety.com/event/tour-of-conservation-fisheries-inc/
LOCATION:Conservation Fisheries Inc.\, 3424 Division St\, Knoxville\, 37919\, United States
ATTACH;FMTTYPE=image/jpeg:https://www.musiccityaquariumsociety.com/wp-content/uploads/2025/04/smokymadtom.jpg
END:VEVENT
END:VCALENDAR