BEGIN:VCALENDAR
VERSION:2.0
PRODID:-//Music City Aquarium Society - ECPv6.15.20//NONSGML v1.0//EN
CALSCALE:GREGORIAN
METHOD:PUBLISH
X-WR-CALNAME:Music City Aquarium Society
X-ORIGINAL-URL:https://www.musiccityaquariumsociety.com
X-WR-CALDESC:Events for Music City Aquarium Society
REFRESH-INTERVAL;VALUE=DURATION:PT1H
X-Robots-Tag:noindex
X-PUBLISHED-TTL:PT1H
BEGIN:VTIMEZONE
TZID:America/Chicago
BEGIN:DAYLIGHT
TZOFFSETFROM:-0600
TZOFFSETTO:-0500
TZNAME:CDT
DTSTART:20250309T080000
END:DAYLIGHT
BEGIN:STANDARD
TZOFFSETFROM:-0500
TZOFFSETTO:-0600
TZNAME:CST
DTSTART:20251102T070000
END:STANDARD
BEGIN:DAYLIGHT
TZOFFSETFROM:-0600
TZOFFSETTO:-0500
TZNAME:CDT
DTSTART:20260308T080000
END:DAYLIGHT
BEGIN:STANDARD
TZOFFSETFROM:-0500
TZOFFSETTO:-0600
TZNAME:CST
DTSTART:20261101T070000
END:STANDARD
BEGIN:DAYLIGHT
TZOFFSETFROM:-0600
TZOFFSETTO:-0500
TZNAME:CDT
DTSTART:20270314T080000
END:DAYLIGHT
BEGIN:STANDARD
TZOFFSETFROM:-0500
TZOFFSETTO:-0600
TZNAME:CST
DTSTART:20271107T070000
END:STANDARD
END:VTIMEZONE
BEGIN:VEVENT
DTSTART;TZID=America/Chicago:20260801T140000
DTEND;TZID=America/Chicago:20260801T160000
DTSTAMP:20260423T232222
CREATED:20260110T173217Z
LAST-MODIFIED:20260119T150728Z
UID:375-1785592800-1785600000@www.musiccityaquariumsociety.com
SUMMARY:August Meeting - Live Foods with Derek Wheaton from Conservation Fisheries Inc.
DESCRIPTION:Friend of the club\, Derek Wheaton\, will join us from east Tennessee to talk about the operations and mission of Conservation Fisheries Inc. \nTo learn more about CFI\, see Conservation Fisheries \n2:00 - 2:20 Club business\, announcements\n2:20 - 3:00 Speaker presentation\n3:00 - 3:15 Q&A\n3:15 - 3:45 Auction\n3:45 - 4:00 Settle up & converse
URL:https://www.musiccityaquariumsociety.com/event/august-meeting-derek/
LOCATION:New Hope Church of Christ\, 2600 New Hope Road\, Hendersonville\, TN\, 37075\, United States
END:VEVENT
END:VCALENDAR