BEGIN:VCALENDAR
VERSION:2.0
PRODID:-//Music City Aquarium Society - ECPv6.15.20//NONSGML v1.0//EN
CALSCALE:GREGORIAN
METHOD:PUBLISH
X-ORIGINAL-URL:https://www.musiccityaquariumsociety.com
X-WR-CALDESC:Events for Music City Aquarium Society
REFRESH-INTERVAL;VALUE=DURATION:PT1H
X-Robots-Tag:noindex
X-PUBLISHED-TTL:PT1H
BEGIN:VTIMEZONE
TZID:America/New_York
BEGIN:DAYLIGHT
TZOFFSETFROM:-0500
TZOFFSETTO:-0400
TZNAME:EDT
DTSTART:20240310T070000
END:DAYLIGHT
BEGIN:STANDARD
TZOFFSETFROM:-0400
TZOFFSETTO:-0500
TZNAME:EST
DTSTART:20241103T060000
END:STANDARD
BEGIN:DAYLIGHT
TZOFFSETFROM:-0500
TZOFFSETTO:-0400
TZNAME:EDT
DTSTART:20250309T070000
END:DAYLIGHT
BEGIN:STANDARD
TZOFFSETFROM:-0400
TZOFFSETTO:-0500
TZNAME:EST
DTSTART:20251102T060000
END:STANDARD
BEGIN:DAYLIGHT
TZOFFSETFROM:-0500
TZOFFSETTO:-0400
TZNAME:EDT
DTSTART:20260308T070000
END:DAYLIGHT
BEGIN:STANDARD
TZOFFSETFROM:-0400
TZOFFSETTO:-0500
TZNAME:EST
DTSTART:20261101T060000
END:STANDARD
END:VTIMEZONE
BEGIN:VEVENT
DTSTART;TZID=America/New_York:20251011T110000
DTEND;TZID=America/New_York:20251011T150000
DTSTAMP:20260425T142609
CREATED:20250531T163456Z
LAST-MODIFIED:20250903T185044Z
UID:282-1760180400-1760194800@www.musiccityaquariumsociety.com
SUMMARY:FALL SWAP
DESCRIPTION:MCAS is hosting our second swap.  The first in the spring was a big hit!  We'll have about two dozen vendors selling fish\, plants\, supplies\, and everything in between. \nThe swap is a great place to get things you might have a hard time finding\, get to meet other fish people\, and maybe get a few great deals! \nEntry is free.
URL:https://www.musiccityaquariumsociety.com/event/fall-swap/
LOCATION:New Hope Church of Christ\, 2600 New Hope Road\, Hendersonville\, TN\, 37075\, United States
END:VEVENT
END:VCALENDAR